BEGIN:VCALENDAR
VERSION:2.0
PRODID:-//wp-events-plugin.com//7.2.3.1//EN
TZID:Europe/Berlin
X-WR-TIMEZONE:Europe/Berlin
BEGIN:VEVENT
UID:1-28@kirche-nf.de
DTSTART;TZID=Europe/Berlin:20260621T110000
DTEND;TZID=Europe/Berlin:20260621T130000
DTSTAMP:20260421T075654Z
URL:https://www.kirche-nf.de/events/benefizkonzert-fuer-aerzte-ohne-grenze
 n/
SUMMARY:Benefizkonzert für "Ärzte ohne Grenzen"
DESCRIPTION:Benefizkonzert für "Ärzte ohne Grenzen" Projektchor „Give P
 eace“\, Leitung: Sylvia Goltz\, Eintritt frei – Spende für " Ärzte o
 hne Grenzen" am Ausgang erbeten. Interessierte für die Teilnahme am Chor 
 bitte bis zum 12.06. melden. Weitere Informationen zur Anmeldung befinden 
 sich am Ende der Broschüre.
CATEGORIES:Kirchenmusik
LOCATION:St. Peter - St. Peter-Ording\, Olsdorfer Str. 19\, 25826 St. Peter
 -Ording\, St. Peter-Ording\, 25826\, Deutschland
GEO:54.3056437;8.6379834
X-APPLE-STRUCTURED-LOCATION;VALUE=URI;X-ADDRESS=Olsdorfer Str. 19\, 25826 S
 t. Peter-Ording\, St. Peter-Ording\, 25826\, Deutschland;X-APPLE-RADIUS=10
 0;X-TITLE=St. Peter - St. Peter-Ording:geo:54.3056437,8.6379834
END:VEVENT
BEGIN:VTIMEZONE
TZID:Europe/Berlin
X-LIC-LOCATION:Europe/Berlin
BEGIN:DAYLIGHT
DTSTART:20260329T030000
TZOFFSETFROM:+0100
TZOFFSETTO:+0200
TZNAME:CEST
END:DAYLIGHT
END:VTIMEZONE
END:VCALENDAR