BEGIN:VCALENDAR
VERSION:2.0
PRODID:-//wp-events-plugin.com//7.2.3.1//EN
TZID:Europe/Berlin
X-WR-TIMEZONE:Europe/Berlin
BEGIN:VEVENT
UID:1-8@kirche-nf.de
DTSTART;TZID=Europe/Berlin:20260426T170000
DTEND;TZID=Europe/Berlin:20260426T200000
DTSTAMP:20260421T061428Z
URL:https://www.kirche-nf.de/events/cello-chor-klaenge-im-dialog/
SUMMARY:Cello &amp\; Chor – Klänge im Dialog
DESCRIPTION:Am Sonntag\, dem 26. April um 17 Uhr präsentiert das Vokalense
 mble Kleiner Chor Husum in der St. Laurentius in Tönning selten zu erlebe
 nde Musik für Cello und Chor. Als musikalische Gäste wurden die Cellist
 in Julia Polziehn (Sylt) eingeladen und das sonux-ensemble – die Männer
 stimmen der Chorknaben Uetersen (Leitung: Felix Renner). Unter der Leitung
  von Kirsten Susanne Böhm musizieren der Kleine Chor Husum\, das sonux- e
 nsemble und die Cellistin Julia Polziehn Eintritt am Eingang nach eigener 
 Einschätzung.
CATEGORIES:Gottesdienste,Kirchenmusik
LOCATION:St. Laurentius - Tönning\, Johann-Adolf-Straße 4\, 25832 Tönnin
 g\, Deutschland\, Tönning\, Deutschland\, 25832\, Deutschland
GEO:54.3174475;8.9399753
X-APPLE-STRUCTURED-LOCATION;VALUE=URI;X-ADDRESS=Johann-Adolf-Straße 4\, 25
 832 Tönning\, Deutschland\, Tönning\, Deutschland\, 25832\, Deutschland;
 X-APPLE-RADIUS=100;X-TITLE=St. Laurentius - Tönning:geo:54.3174475,8.9399
 753
END:VEVENT
BEGIN:VTIMEZONE
TZID:Europe/Berlin
X-LIC-LOCATION:Europe/Berlin
BEGIN:DAYLIGHT
DTSTART:20260329T030000
TZOFFSETFROM:+0100
TZOFFSETTO:+0200
TZNAME:CEST
END:DAYLIGHT
END:VTIMEZONE
END:VCALENDAR