BEGIN:VCALENDAR
VERSION:2.0
PRODID:-//wp-events-plugin.com//7.2.3.1//EN
TZID:Europe/Berlin
X-WR-TIMEZONE:Europe/Berlin
BEGIN:VEVENT
UID:1-11@kirche-nf.de
DTSTART;TZID=Europe/Berlin:20260507T190000
DTEND;TZID=Europe/Berlin:20260507T210000
DTSTAMP:20260421T061628Z
URL:https://www.kirche-nf.de/events/dorfkirche-mon-amour/
SUMMARY:Dorfkirche mon amour
DESCRIPTION:Kammerkonzert mit dem weltweit gefeierten Bass-Bariton Klaus Me
 rtens\, Simone Eckert – Gambe und KMD Christian Hoffmann\, Orgel und Cem
 balo Karten zu 20\,-\n\n€ 15\,- ermäßigt im Vorverkauf bei der Tourist
 information Tönning am Markt und im Ticketshop der Kirchengemeinde Tönni
 ng\n\nhttps://kirche-toenning.de/ticketshop/ Restkarten an der Abendkasse
CATEGORIES:Kirchenmusik
LOCATION:St. Laurentius - Tönning\, Johann-Adolf-Straße 4\, 25832 Tönnin
 g\, Deutschland\, Tönning\, Deutschland\, 25832\, Deutschland
GEO:54.3174475;8.9399753
X-APPLE-STRUCTURED-LOCATION;VALUE=URI;X-ADDRESS=Johann-Adolf-Straße 4\, 25
 832 Tönning\, Deutschland\, Tönning\, Deutschland\, 25832\, Deutschland;
 X-APPLE-RADIUS=100;X-TITLE=St. Laurentius - Tönning:geo:54.3174475,8.9399
 753
END:VEVENT
BEGIN:VTIMEZONE
TZID:Europe/Berlin
X-LIC-LOCATION:Europe/Berlin
BEGIN:DAYLIGHT
DTSTART:20260329T030000
TZOFFSETFROM:+0100
TZOFFSETTO:+0200
TZNAME:CEST
END:DAYLIGHT
END:VTIMEZONE
END:VCALENDAR