BEGIN:VCALENDAR
VERSION:2.0
PRODID:-//wp-events-plugin.com//7.2.3.1//EN
TZID:Europe/Berlin
X-WR-TIMEZONE:Europe/Berlin
BEGIN:VEVENT
UID:1-30@kirche-nf.de
DTSTART;TZID=Europe/Berlin:20260726T200000
DTEND;TZID=Europe/Berlin:20260726T220000
DTSTAMP:20260421T080117Z
URL:https://www.kirche-nf.de/events/faeden-neo-klassik-fuer-solo-piano/
SUMMARY:fæden - Neo-Klassik für Solo-Piano
DESCRIPTION:fæden - Neo-Klassik für Solo-Piano mit Komponist und Pianist 
 Thomas Lambrich: „Ich wünsche mir\, dass bei den Zuhörer:innen durch m
 eine Musik ihre eigenen Bilder und Vorstellungen entstehen\, um so ihr eig
 enes Netz an Fäden zu vergegenwärtigen.“ Thomas Lambrich\, Klavier.\n\
 nEintritt 20 € (15 € Schüler\, Studenten\, Auszubildende)
CATEGORIES:Kirchenmusik
LOCATION:St. Peter - St. Peter-Ording\, Olsdorfer Str. 19\, 25826 St. Peter
 -Ording\, St. Peter-Ording\, 25826\, Deutschland
GEO:54.3056437;8.6379834
X-APPLE-STRUCTURED-LOCATION;VALUE=URI;X-ADDRESS=Olsdorfer Str. 19\, 25826 S
 t. Peter-Ording\, St. Peter-Ording\, 25826\, Deutschland;X-APPLE-RADIUS=10
 0;X-TITLE=St. Peter - St. Peter-Ording:geo:54.3056437,8.6379834
END:VEVENT
BEGIN:VTIMEZONE
TZID:Europe/Berlin
X-LIC-LOCATION:Europe/Berlin
BEGIN:DAYLIGHT
DTSTART:20260329T030000
TZOFFSETFROM:+0100
TZOFFSETTO:+0200
TZNAME:CEST
END:DAYLIGHT
END:VTIMEZONE
END:VCALENDAR