BEGIN:VCALENDAR
VERSION:2.0
PRODID:-//wp-events-plugin.com//7.2.3.1//EN
TZID:Europe/Berlin
X-WR-TIMEZONE:Europe/Berlin
BEGIN:VEVENT
UID:1-31@kirche-nf.de
DTSTART;TZID=Europe/Berlin:20260802T200000
DTEND;TZID=Europe/Berlin:20260802T220000
DTSTAMP:20260421T080146Z
URL:https://www.kirche-nf.de/events/franz-schubert-die-schoene-muellerin-1
 823-die-ganze-geschichte-ein-liederzyklus-plus-fuer-gesang-und-klavier/
SUMMARY:Franz Schubert: Die schöne Müllerin (1823) Die ganze Geschichte -
  ein Liederzyklus plus für Gesang und Klavier
DESCRIPTION:Franz Schubert: Die schöne Müllerin (1823) Die ganze Geschich
 te - ein Liederzyklus plus für Gesang und Klavier\, Text: Wilhelm Müller
 \, Volker Thies: Applikationen zu „Die schöne Müllerin“ (2023) für 
 Sprecher\, Gesang und Klavier Volker Thies (Tenor\, Sprecher\, Konzept\, A
 rrangement) André Hammerschmied (Klavier) Eintritt 15 € (10 € Schüle
 r\, Studenten\, Auszubildende)
CATEGORIES:Kirchenmusik
LOCATION:St. Peter - St. Peter-Ording\, Olsdorfer Str. 19\, 25826 St. Peter
 -Ording\, St. Peter-Ording\, 25826\, Deutschland
GEO:54.3056437;8.6379834
X-APPLE-STRUCTURED-LOCATION;VALUE=URI;X-ADDRESS=Olsdorfer Str. 19\, 25826 S
 t. Peter-Ording\, St. Peter-Ording\, 25826\, Deutschland;X-APPLE-RADIUS=10
 0;X-TITLE=St. Peter - St. Peter-Ording:geo:54.3056437,8.6379834
END:VEVENT
BEGIN:VTIMEZONE
TZID:Europe/Berlin
X-LIC-LOCATION:Europe/Berlin
BEGIN:DAYLIGHT
DTSTART:20260329T030000
TZOFFSETFROM:+0100
TZOFFSETTO:+0200
TZNAME:CEST
END:DAYLIGHT
END:VTIMEZONE
END:VCALENDAR