BEGIN:VCALENDAR
VERSION:2.0
PRODID:-//wp-events-plugin.com//7.2.3.1//EN
TZID:Europe/Berlin
X-WR-TIMEZONE:Europe/Berlin
BEGIN:VEVENT
UID:1-27@kirche-nf.de
DTSTART;TZID=Europe/Berlin:20260607T193000
DTEND;TZID=Europe/Berlin:20260607T220000
DTSTAMP:20260421T075604Z
URL:https://www.kirche-nf.de/events/gala-mitsingkonzert-tenoere4you-tour-2
 026/
SUMMARY:Gala-Mitsingkonzert Tenöre4you Tour 2026
DESCRIPTION:Gala-Mitsingkonzert Tenöre4you Tour 2026 Eintritt 24 € im VV
 k und 26 € an der Abendkasse\, Vorverkauf: Tourist- Info\, Badallee 1\, 
 Crantz Floristik\, Dorfstraße 13\, Edeka Johst\, Dreilanden 7b/ In Husum:
  Tui\, Rote Pforte\, Buchhandlung Liesegang\, Rote Pforte 6\, Husumer Nach
 richten\, Markt 23\, Famila Husum\, Andreas-Clausen-Str.2 oder online unte
 r www.tenoere4you.de
CATEGORIES:Kirchenmusik
LOCATION:St. Peter - St. Peter-Ording\, Olsdorfer Str. 19\, 25826 St. Peter
 -Ording\, St. Peter-Ording\, 25826\, Deutschland
GEO:54.3056437;8.6379834
X-APPLE-STRUCTURED-LOCATION;VALUE=URI;X-ADDRESS=Olsdorfer Str. 19\, 25826 S
 t. Peter-Ording\, St. Peter-Ording\, 25826\, Deutschland;X-APPLE-RADIUS=10
 0;X-TITLE=St. Peter - St. Peter-Ording:geo:54.3056437,8.6379834
END:VEVENT
BEGIN:VTIMEZONE
TZID:Europe/Berlin
X-LIC-LOCATION:Europe/Berlin
BEGIN:DAYLIGHT
DTSTART:20260329T030000
TZOFFSETFROM:+0100
TZOFFSETTO:+0200
TZNAME:CEST
END:DAYLIGHT
END:VTIMEZONE
END:VCALENDAR