BEGIN:VCALENDAR
VERSION:2.0
PRODID:-//wp-events-plugin.com//7.2.3.1//EN
TZID:Europe/Berlin
X-WR-TIMEZONE:Europe/Berlin
BEGIN:VEVENT
UID:1-4@kirche-nf.de
DTSTART;TZID=Europe/Berlin:20260509T180000
DTEND;TZID=Europe/Berlin:20260509T200000
DTSTAMP:20260421T061710Z
URL:https://www.kirche-nf.de/events/gong-konzert-mit-peter-heeren/
SUMMARY:Gong-Konzert mit Peter Heeren
DESCRIPTION:Eintritt frei\, Spenden für den Musiker erbeten
CATEGORIES:Kirchenmusik
LOCATION:St. Anna - Tetenbüll\, Karkenstraat\, 25882 Tetenbüll\, Tetenbü
 ll\, 25882\, Deutschland
GEO:54.3521485;8.8259936
X-APPLE-STRUCTURED-LOCATION;VALUE=URI;X-ADDRESS=Karkenstraat\, 25882 Tetenb
 üll\, Tetenbüll\, 25882\, Deutschland;X-APPLE-RADIUS=100;X-TITLE=St. Ann
 a - Tetenbüll:geo:54.3521485,8.8259936
END:VEVENT
BEGIN:VTIMEZONE
TZID:Europe/Berlin
X-LIC-LOCATION:Europe/Berlin
BEGIN:DAYLIGHT
DTSTART:20260329T030000
TZOFFSETFROM:+0100
TZOFFSETTO:+0200
TZNAME:CEST
END:DAYLIGHT
END:VTIMEZONE
END:VCALENDAR