BEGIN:VCALENDAR
VERSION:2.0
PRODID:-//wp-events-plugin.com//7.2.3.1//EN
TZID:Europe/Berlin
X-WR-TIMEZONE:Europe/Berlin
BEGIN:VEVENT
UID:1-15@kirche-nf.de
DTSTART;TZID=Europe/Berlin:20260919T180000
DTEND;TZID=Europe/Berlin:20260919T200000
DTSTAMP:20260421T080521Z
URL:https://www.kirche-nf.de/events/gospelchor-get-on-board-toenning/
SUMMARY:Gospelchor Get on board Tönning
DESCRIPTION:Der Gospelchor „Get on board“ aus Tönning unter der Leitun
 g von KMD Christian Hoffmann gibt sein alljährliches\, großes Konzert mi
 t Spirituals\, Gospels und afrikanischen Liedern mit Trommelbegleitung. De
 r Eintritt beträgt 10\,- €\, ermäßigt 7\,- €. Karten sind nur an de
 r Abendkasse zu erhalten. Einlass ist ab 17.15 Uhr.
CATEGORIES:Kirchenmusik
LOCATION:St. Laurentius - Tönning\, Johann-Adolf-Straße 4\, 25832 Tönnin
 g\, Deutschland\, Tönning\, Deutschland\, 25832\, Deutschland
GEO:54.3174475;8.9399753
X-APPLE-STRUCTURED-LOCATION;VALUE=URI;X-ADDRESS=Johann-Adolf-Straße 4\, 25
 832 Tönning\, Deutschland\, Tönning\, Deutschland\, 25832\, Deutschland;
 X-APPLE-RADIUS=100;X-TITLE=St. Laurentius - Tönning:geo:54.3174475,8.9399
 753
END:VEVENT
BEGIN:VTIMEZONE
TZID:Europe/Berlin
X-LIC-LOCATION:Europe/Berlin
BEGIN:DAYLIGHT
DTSTART:20260329T030000
TZOFFSETFROM:+0100
TZOFFSETTO:+0200
TZNAME:CEST
END:DAYLIGHT
END:VTIMEZONE
END:VCALENDAR