BEGIN:VCALENDAR
VERSION:2.0
PRODID:-//wp-events-plugin.com//7.2.3.1//EN
TZID:Europe/Berlin
X-WR-TIMEZONE:Europe/Berlin
BEGIN:VEVENT
UID:1-37@kirche-nf.de
DTSTART;TZID=Europe/Berlin:20260423T193000
DTEND;TZID=Europe/Berlin:20260423T220000
DTSTAMP:20260420T195926Z
URL:https://www.kirche-nf.de/events/komplizierte-familiengeschichten-der-b
 ibel-gespraech-mit-susanne-baum/
SUMMARY:Komplizierte Familiengeschichten der Bibel - Gespräch mit Susanne 
 Baum
DESCRIPTION:Susanne Baum ist Familientherapeutin. Vor ihrem Ruhestand war s
 ie im Diakonischen Werk Husum ist leitender Funktion tätig. In der Bibelg
 esprächsreihe „Vom Anfang“ spricht sie mit Gastgeber Friedemann Magaa
 rd am Donnerstag\, 23. April\, über das 1. Buch Mose und besonders über 
 die spannenden Familiengeschichten um Isaak und seine Söhne Jakob und Esa
 u.\nIn „Josef und seiner Brüder“ hat der Schriftsteller Thomas Mann d
 en Familiengeschichten und Abgründen der sogenannten „Vätergeschichten
 “ ein literarisches Denkmal gesetzt. Dass es wirklich nicht nur um die E
 rzväter geht\, sondern um Frauen und Männer\, um Liebe und Eifersucht\, 
 um gefährliche Geschwisterkonstellationen\, das ist viel mehr Material al
 s in einem Abend zu bedenken ist. Aber ein Anfang wird gemacht.\nDer Abend
  mit Susanne Baum ist der Abschluss von insgesamt fünf Gesprächsabenden\
 , an denen besondere Bibeltexte aus den fünf Büchern mit interessanten G
 ästen bedacht werden. Dabei geht es um die Verbindung von biblischen Geda
 nken und dem heutigen Alltag. Alle Teilnehmenden können sich in das Gespr
 äch einbringen\, mit eigenen Erfahrungen oder Fragen. Die Gespräche begi
 nnen um 19.30 Uhr im Gemeindehaus an der Marienkirche. Der Eintritt ist fr
 ei.
CATEGORIES:Bildung &amp; Kultur,Sonstige Veranstaltungen
LOCATION:St. Marien Husum\, Am Markt\, 25813 Husum\, Husum\, 25813\, Deutsc
 hland
GEO:54.4771362;9.0524421
X-APPLE-STRUCTURED-LOCATION;VALUE=URI;X-ADDRESS=Am Markt\, 25813 Husum\, Hu
 sum\, 25813\, Deutschland;X-APPLE-RADIUS=100;X-TITLE=St. Marien Husum:geo:
 54.4771362,9.0524421
END:VEVENT
BEGIN:VTIMEZONE
TZID:Europe/Berlin
X-LIC-LOCATION:Europe/Berlin
BEGIN:DAYLIGHT
DTSTART:20260329T030000
TZOFFSETFROM:+0100
TZOFFSETTO:+0200
TZNAME:CEST
END:DAYLIGHT
END:VTIMEZONE
END:VCALENDAR