BEGIN:VCALENDAR
VERSION:2.0
PRODID:-//wp-events-plugin.com//7.2.3.1//EN
TZID:Europe/Berlin
X-WR-TIMEZONE:Europe/Berlin
BEGIN:VEVENT
UID:1-14@kirche-nf.de
DTSTART;TZID=Europe/Berlin:20260808T190000
DTEND;TZID=Europe/Berlin:20260808T210000
DTSTAMP:20260421T080345Z
URL:https://www.kirche-nf.de/events/konzert-mit-dem-kleinen-chor-bad-soden
 -salmuenster-2/
SUMMARY:Konzert mit dem "Kleinen Chor" Bad Soden-Salmünster
DESCRIPTION:Der Kleine Chor und das junge Ensemble "Next Generation" präse
 ntieren Werke von Ola Gjeilo\, Johann Christoph Altnikol\, a-ha u. v. a. I
 nfos unter:\n\nwww.derkleinechor.de\n\nKlavier: Frank Kleespies\, Leitung:
  Lysann Berger. Der Eintritt ist frei\, um eine Spende wird gebeten. Einla
 ss ab 18 Uhr.
CATEGORIES:Kirchenmusik
LOCATION:St. Laurentius - Tönning\, Johann-Adolf-Straße 4\, 25832 Tönnin
 g\, Deutschland\, Tönning\, Deutschland\, 25832\, Deutschland
GEO:54.3174475;8.9399753
X-APPLE-STRUCTURED-LOCATION;VALUE=URI;X-ADDRESS=Johann-Adolf-Straße 4\, 25
 832 Tönning\, Deutschland\, Tönning\, Deutschland\, 25832\, Deutschland;
 X-APPLE-RADIUS=100;X-TITLE=St. Laurentius - Tönning:geo:54.3174475,8.9399
 753
END:VEVENT
BEGIN:VTIMEZONE
TZID:Europe/Berlin
X-LIC-LOCATION:Europe/Berlin
BEGIN:DAYLIGHT
DTSTART:20260329T030000
TZOFFSETFROM:+0100
TZOFFSETTO:+0200
TZNAME:CEST
END:DAYLIGHT
END:VTIMEZONE
END:VCALENDAR