BEGIN:VCALENDAR
VERSION:2.0
PRODID:-//wp-events-plugin.com//7.2.3.1//EN
TZID:Europe/Berlin
X-WR-TIMEZONE:Europe/Berlin
BEGIN:VEVENT
UID:1-13@kirche-nf.de
DTSTART;TZID=Europe/Berlin:20260807T190000
DTEND;TZID=Europe/Berlin:20260807T210000
DTSTAMP:20260421T080255Z
URL:https://www.kirche-nf.de/events/konzert-mit-dem-kleinen-chor-bad-soden
 -salmuenster/
SUMMARY:Konzert mit dem "Kleinen Chor" Bad Soden-Salmünster
DESCRIPTION:Der Kleine Chor und das junge Ensemble "Next Generation" präse
 ntieren Werke von Ola Gjeilo\, Johann Christoph Altnikol\, a-ha u. v. a. I
 nfos unter:\n\nwww.derkleinechor.de\n\nKlavier: Frank Kleespies\, Leitung:
  Lysann Berger. Der Eintritt ist frei\, um eine Spende wird gebeten. Einla
 ss ab 18 Uhr.
CATEGORIES:Kirchenmusik
LOCATION:St. Christophorus - Friedrichstadt\, Am Mittelburgwall 40\, 25840 
 Friedrichstadt\, Deutschland\, Friedrichstadt\, Deutschland\, 25840\, Deut
 schland
GEO:54.3775123;9.0878161
X-APPLE-STRUCTURED-LOCATION;VALUE=URI;X-ADDRESS=Am Mittelburgwall 40\, 2584
 0 Friedrichstadt\, Deutschland\, Friedrichstadt\, Deutschland\, 25840\, De
 utschland;X-APPLE-RADIUS=100;X-TITLE=St. Christophorus - Friedrichstadt:ge
 o:54.3775123,9.0878161
END:VEVENT
BEGIN:VTIMEZONE
TZID:Europe/Berlin
X-LIC-LOCATION:Europe/Berlin
BEGIN:DAYLIGHT
DTSTART:20260329T030000
TZOFFSETFROM:+0100
TZOFFSETTO:+0200
TZNAME:CEST
END:DAYLIGHT
END:VTIMEZONE
END:VCALENDAR