BEGIN:VCALENDAR
VERSION:2.0
PRODID:-//wp-events-plugin.com//7.2.3.1//EN
TZID:Europe/Berlin
X-WR-TIMEZONE:Europe/Berlin
BEGIN:VEVENT
UID:1-16@kirche-nf.de
DTSTART;TZID=Europe/Berlin:20261011T170000
DTEND;TZID=Europe/Berlin:20261011T190000
DTSTAMP:20260417T123543Z
URL:https://www.kirche-nf.de/events/marienvesper-von-claudio-monteverdi/
SUMMARY:Marienvesper von Claudio Monteverdi
DESCRIPTION:Ausführende: Clara Steuerwald\, Sopran\, Lisa Schmalz\,Sopran
 \, Florian Sievers\, Tenor\, Christopher Renz\, Tenor\, Klaus Mertens\, Ba
 ss\, Capella St. Laurentius\, Propsteikantatenchor Eiderstedt\, KMD Christ
 ian Hoffmann\, Leitung. Karten im Vorverkauf ab 1.7.25 im Ticketshop der K
 irchengemeinde unter\n\nwww.kirche-toenning.de/ticketshop und bei der Tour
 ist Information Tönning am Markt. Einlass und Abendkasse ab 16.15 Uhr
CATEGORIES:Kirchenmusik
LOCATION:St. Bartholomäus\, Am Markt 13\, Wesselburen\, Schleswig-Holstein
 \, 25764\, Nordfriesland\, Deutschland
X-APPLE-STRUCTURED-LOCATION;VALUE=URI;X-ADDRESS=Am Markt 13\, Wesselburen\,
  Schleswig-Holstein\, 25764\, Nordfriesland\, Deutschland;X-APPLE-RADIUS=1
 00;X-TITLE=St. Bartholomäus:geo:0,0
END:VEVENT
BEGIN:VTIMEZONE
TZID:Europe/Berlin
X-LIC-LOCATION:Europe/Berlin
BEGIN:DAYLIGHT
DTSTART:20260329T030000
TZOFFSETFROM:+0100
TZOFFSETTO:+0200
TZNAME:CEST
END:DAYLIGHT
END:VTIMEZONE
END:VCALENDAR