BEGIN:VCALENDAR
VERSION:2.0
PRODID:-//wp-events-plugin.com//7.2.3.1//EN
TZID:Europe/Berlin
X-WR-TIMEZONE:Europe/Berlin
BEGIN:VEVENT
UID:1-29@kirche-nf.de
DTSTART;TZID=Europe/Berlin:20260712T200000
DTEND;TZID=Europe/Berlin:20260712T220000
DTSTAMP:20260421T080017Z
URL:https://www.kirche-nf.de/events/musikalische-bilder-emotionale-stilueb
 ergreifende-konzertmusik/
SUMMARY:Musikalische Bilder - emotionale stilübergreifende Konzertmusik
DESCRIPTION:Musikalische Bilder - emotionale stilübergreifende Konzertmusi
 k für Gitarre Werk von Malte Vief (*1979): Josephine\, Glück\, Hinter de
 m Licht\, Still waters run deep\, Noah\, Reset u.a. Malte Vief - Gitarre E
 intritt 15 € (10 € Schüler\, Studenten\, Auszubildende)
CATEGORIES:Kirchenmusik
LOCATION:St. Peter - St. Peter-Ording\, Olsdorfer Str. 19\, 25826 St. Peter
 -Ording\, St. Peter-Ording\, 25826\, Deutschland
GEO:54.3056437;8.6379834
X-APPLE-STRUCTURED-LOCATION;VALUE=URI;X-ADDRESS=Olsdorfer Str. 19\, 25826 S
 t. Peter-Ording\, St. Peter-Ording\, 25826\, Deutschland;X-APPLE-RADIUS=10
 0;X-TITLE=St. Peter - St. Peter-Ording:geo:54.3056437,8.6379834
END:VEVENT
BEGIN:VTIMEZONE
TZID:Europe/Berlin
X-LIC-LOCATION:Europe/Berlin
BEGIN:DAYLIGHT
DTSTART:20260329T030000
TZOFFSETFROM:+0100
TZOFFSETTO:+0200
TZNAME:CEST
END:DAYLIGHT
END:VTIMEZONE
END:VCALENDAR