BEGIN:VCALENDAR
VERSION:2.0
PRODID:-//wp-events-plugin.com//7.2.3.1//EN
TZID:Europe/Berlin
X-WR-TIMEZONE:Europe/Berlin
BEGIN:VEVENT
UID:1-3@kirche-nf.de
DTSTART;TZID=Europe/Berlin:20260503T101500
DTEND;TZID=Europe/Berlin:20260503T120000
DTSTAMP:20260421T061527Z
URL:https://www.kirche-nf.de/events/musikalischer-gottesdienst/
SUMMARY:Musikalischer Gottesdienst
DESCRIPTION:Zum Sonntag Kantate mit der Kantorei und Posaunenchor St. Chris
 tian\, musikalische Leitung: Elisabeth Weisenberger
CATEGORIES:Gottesdienste,Kirchenmusik
LOCATION:St. Christian - Garding\, Markt 4\, 25836 Garding\, Deutschland\, 
 Garding\, Deutschland\, 25836\, Deutschland
GEO:54.3290671;8.7793961
X-APPLE-STRUCTURED-LOCATION;VALUE=URI;X-ADDRESS=Markt 4\, 25836 Garding\, D
 eutschland\, Garding\, Deutschland\, 25836\, Deutschland;X-APPLE-RADIUS=10
 0;X-TITLE=St. Christian - Garding:geo:54.3290671,8.7793961
END:VEVENT
BEGIN:VTIMEZONE
TZID:Europe/Berlin
X-LIC-LOCATION:Europe/Berlin
BEGIN:DAYLIGHT
DTSTART:20260329T030000
TZOFFSETFROM:+0100
TZOFFSETTO:+0200
TZNAME:CEST
END:DAYLIGHT
END:VTIMEZONE
END:VCALENDAR