BEGIN:VCALENDAR
VERSION:2.0
PRODID:-//wp-events-plugin.com//7.2.3.1//EN
TZID:Europe/Berlin
X-WR-TIMEZONE:Europe/Berlin
BEGIN:VEVENT
UID:1-34@kirche-nf.de
DTSTART;TZID=Europe/Berlin:20260509T100000
DTEND;TZID=Europe/Berlin:20260509T160000
DTSTAMP:20260421T120957Z
URL:https://www.kirche-nf.de/events/nein-ist-ein-ganzer-satz-tagesseminar/
SUMMARY:Nein ist ein ganzer Satz - Tagesseminar
DESCRIPTION:„Lerne „Nein“ sagen. Erst dann werden andere dein „Ja
 “ zu schätzen wissen.“ Für Frauen ist das so ein großes Thema. Sie 
 gehen lieber über eigene Grenzen\, als andere nicht zu unterstützen. Abe
 r wem nützt das? Und was macht das mit den Frauen? Um „Nein“ zu sagen
 \, muss ich mich und meine Grenzen kennen und darum wird es an diesem Tag 
 gehen. Wie kann ich durch ein „Nein“ wertschätzend mit mir und andere
 n umgehen? Es geht um Austausch\, Übungen und herauszufinden\, was mich s
 tärkt.\nBitte einen Beitrag für ein gemeinsames Mittagsbuﬀet mitnehmen
 !\nAnmeldungen bis zum 29.04.2026 unter: sekretariat@erw-breklum.de\nEine 
 Kooperaon mit dem Ökumene Werk der Nordkirche
CATEGORIES:Bildung &amp; Kultur,Frauenarbeit
LOCATION:Gemeindehaus der Versöhnungskirche\, Berliner Straße 72\, Husum\
 , Schleswig-Holstein\, 25813\, Nordfriesland\, Deutschland
GEO:54.489236;9.055057
X-APPLE-STRUCTURED-LOCATION;VALUE=URI;X-ADDRESS=Berliner Straße 72\, Husum
 \, Schleswig-Holstein\, 25813\, Nordfriesland\, Deutschland;X-APPLE-RADIUS
 =100;X-TITLE=Gemeindehaus der Versöhnungskirche:geo:54.489236,9.055057
END:VEVENT
BEGIN:VTIMEZONE
TZID:Europe/Berlin
X-LIC-LOCATION:Europe/Berlin
BEGIN:DAYLIGHT
DTSTART:20260329T030000
TZOFFSETFROM:+0100
TZOFFSETTO:+0200
TZNAME:CEST
END:DAYLIGHT
END:VTIMEZONE
END:VCALENDAR