BEGIN:VCALENDAR
VERSION:2.0
PRODID:-//wp-events-plugin.com//7.2.3.1//EN
TZID:Europe/Berlin
X-WR-TIMEZONE:Europe/Berlin
BEGIN:VEVENT
UID:1-7@kirche-nf.de
DTSTART;TZID=Europe/Berlin:20260621T180000
DTEND;TZID=Europe/Berlin:20260621T200000
DTSTAMP:20260421T075733Z
URL:https://www.kirche-nf.de/events/sommerkonzert-kantoreifest/
SUMMARY:Sommerkonzert &amp\; Kantoreifest
DESCRIPTION:BEST OF der letzten 20 Jahre mit Werken von Händel (Halleluja)
 \, Haydn (Die Himmel erzählen)\, Mozart\, Sorensen\, Snyder u.a. mit der 
 Kantorei St. Christian\, Andreas Eisenmann (Saxophon)\, Vio (Violine) Leit
 ung: Elisabeth Weisenberger Eintritt frei.
CATEGORIES:Kirchenmusik
LOCATION:St. Christian - Garding\, Markt 4\, 25836 Garding\, Deutschland\, 
 Garding\, Deutschland\, 25836\, Deutschland
GEO:54.3290671;8.7793961
X-APPLE-STRUCTURED-LOCATION;VALUE=URI;X-ADDRESS=Markt 4\, 25836 Garding\, D
 eutschland\, Garding\, Deutschland\, 25836\, Deutschland;X-APPLE-RADIUS=10
 0;X-TITLE=St. Christian - Garding:geo:54.3290671,8.7793961
END:VEVENT
BEGIN:VTIMEZONE
TZID:Europe/Berlin
X-LIC-LOCATION:Europe/Berlin
BEGIN:DAYLIGHT
DTSTART:20260329T030000
TZOFFSETFROM:+0100
TZOFFSETTO:+0200
TZNAME:CEST
END:DAYLIGHT
END:VTIMEZONE
END:VCALENDAR