BEGIN:VCALENDAR
VERSION:2.0
PRODID:-//wp-events-plugin.com//7.2.3.1//EN
TZID:Europe/Berlin
X-WR-TIMEZONE:Europe/Berlin
BEGIN:VEVENT
UID:1-10@kirche-nf.de
DTSTART;TZID=Europe/Berlin:20260607T110000
DTEND;TZID=Europe/Berlin:20260607T130000
DTSTAMP:20260417T100536Z
URL:https://www.kirche-nf.de/events/sonntagsfest-im-multimar/
SUMMARY:Sonntagsfest im Multimar
DESCRIPTION:Die Kirchengemeinde Tönning-Kating-Kotzenbüll lädt zu einem
  fröhlichen Gottesdienst mit dem Kinderchor bei freiem Eintritt in das Mu
 ltimar Wattforum nach Tönning ein.
CATEGORIES:Gottesdienste,Sonstige Veranstaltungen
LOCATION:Multimar\, Dithmarscher Str. 6a\, Tönning\, Schleswig-Holstein\, 
 25831\, Nordfriesland\, Deutschland
GEO:54.32158;8.95316
X-APPLE-STRUCTURED-LOCATION;VALUE=URI;X-ADDRESS=Dithmarscher Str. 6a\, Tön
 ning\, Schleswig-Holstein\, 25831\, Nordfriesland\, Deutschland;X-APPLE-RA
 DIUS=100;X-TITLE=Multimar:geo:54.32158,8.95316
END:VEVENT
BEGIN:VTIMEZONE
TZID:Europe/Berlin
X-LIC-LOCATION:Europe/Berlin
BEGIN:DAYLIGHT
DTSTART:20260329T030000
TZOFFSETFROM:+0100
TZOFFSETTO:+0200
TZNAME:CEST
END:DAYLIGHT
END:VTIMEZONE
END:VCALENDAR