BEGIN:VCALENDAR
VERSION:2.0
PRODID:-//wp-events-plugin.com//7.2.3.1//EN
TZID:Europe/Berlin
X-WR-TIMEZONE:Europe/Berlin
BEGIN:VEVENT
UID:1-19@kirche-nf.de
DTSTART;TZID=Europe/Berlin:20261214T180000
DTEND;TZID=Europe/Berlin:20261214T200000
DTSTAMP:20260421T080838Z
URL:https://www.kirche-nf.de/events/traditionelles-advents-und-weihnachtsl
 iedersingen/
SUMMARY:Traditionelles Advents- und Weihnachtsliedersingen
DESCRIPTION:Alle sind wieder herzlich eingeladen zusammen mit der Kantorei\
 , dem Kinderchor und einem Streicherensemble bekannte und neuere Advents- 
 und Weihnachtslieder in der St. Laurentiuskirche gemeinsam zu singen. Die 
 Leitung hat KMD Christian Hoffmann.\n\nDer Eintritt ist frei\, eine Spende
  für die Kirchenmusik wird am Ausgang erbeten.
CATEGORIES:Kirchenmusik
LOCATION:St. Laurentius - Tönning\, Johann-Adolf-Straße 4\, 25832 Tönnin
 g\, Deutschland\, Tönning\, Deutschland\, 25832\, Deutschland
GEO:54.3174475;8.9399753
X-APPLE-STRUCTURED-LOCATION;VALUE=URI;X-ADDRESS=Johann-Adolf-Straße 4\, 25
 832 Tönning\, Deutschland\, Tönning\, Deutschland\, 25832\, Deutschland;
 X-APPLE-RADIUS=100;X-TITLE=St. Laurentius - Tönning:geo:54.3174475,8.9399
 753
END:VEVENT
BEGIN:VTIMEZONE
TZID:Europe/Berlin
X-LIC-LOCATION:Europe/Berlin
BEGIN:STANDARD
DTSTART:20261025T020000
TZOFFSETFROM:+0200
TZOFFSETTO:+0100
TZNAME:CET
END:STANDARD
END:VTIMEZONE
END:VCALENDAR