BEGIN:VCALENDAR
VERSION:2.0
PRODID:-//wp-events-plugin.com//7.2.3.1//EN
TZID:Europe/Berlin
X-WR-TIMEZONE:Europe/Berlin
BEGIN:VEVENT
UID:1-36@kirche-nf.de
DTSTART;TZID=Europe/Berlin:20260606T100000
DTEND;TZID=Europe/Berlin:20260606T160000
DTSTAMP:20260421T121017Z
URL:https://www.kirche-nf.de/events/was-will-ich-eigentlich-tagesseminar-a
 uf-sylt-2/
SUMMARY:Was will ich eigentlich? Tagesseminar auf Sylt
DESCRIPTION:Je genauer wir das aber wissen und eine Idee von unserem Weg da
 hin haben\, desto einfacher wird unser Leben. An diesem Tag kommen wir Stu
 ̈ck für Stück unseren persönlichen Zielen auf die Spur: seien es Zie
 le für uns selbst\, unsere\n\nArbeit\, für das Miteinander oder sogar 
 darüber hinaus. Wir nehmen wahr\, was wir bereits erreicht haben\, unter
 scheiden Ziele von Wünschen und formulieren attraktive Ziele\, die wir t
 atsächlich erreichen können.\n\nAm Ende des Tages steht ein nächster kl
 arer Schritt. Wir arbeiten mit kreativen Methoden. Es sind keinerlei Vorke
 nntnisse erforderlich.\n\nBitte nehmen Sie einen Beitrag zum Teilen für 
 das gemeinsame Mittagessen mit.\n\nAnmeldungen bis zum 18.05.2026 unter: s
 ekretariat@erw-breklum.de.\n\nEine Kooperation mit der Kirchengemeinde Kei
 tum
CATEGORIES:Bildung &amp; Kultur,Frauenarbeit
LOCATION:Evangelisches Gemeindehaus Keitum auf Sylt\, Pröstwai 20\, Keitum
 \, Schleswig-Holstein\, 25980\, Nordfriesland\, Deutschland
GEO:54.896936;8.36814
X-APPLE-STRUCTURED-LOCATION;VALUE=URI;X-ADDRESS=Pröstwai 20\, Keitum\, Sch
 leswig-Holstein\, 25980\, Nordfriesland\, Deutschland;X-APPLE-RADIUS=100;X
 -TITLE=Evangelisches Gemeindehaus Keitum auf Sylt:geo:54.896936,8.36814
END:VEVENT
BEGIN:VTIMEZONE
TZID:Europe/Berlin
X-LIC-LOCATION:Europe/Berlin
BEGIN:DAYLIGHT
DTSTART:20260329T030000
TZOFFSETFROM:+0100
TZOFFSETTO:+0200
TZNAME:CEST
END:DAYLIGHT
END:VTIMEZONE
END:VCALENDAR