BEGIN:VCALENDAR
VERSION:2.0
PRODID:-//wp-events-plugin.com//7.2.3.1//EN
TZID:Europe/Berlin
X-WR-TIMEZONE:Europe/Berlin
BEGIN:VEVENT
UID:1-18@kirche-nf.de
DTSTART;TZID=Europe/Berlin:20261205T180000
DTEND;TZID=Europe/Berlin:20261205T200000
DTSTAMP:20260421T080814Z
URL:https://www.kirche-nf.de/events/weihnachtskonzert-des-gospelchores-get
 -on-board/
SUMMARY:Weihnachtskonzert des Gospelchores Get on board
DESCRIPTION:Der Gospelchor Get on board unter der Leitung von KMD Christian
  Hoffmann singt begleitet von ihrer Band Gospels zur Advents- und Weihnach
 tszeit.\n\nEintritt frei. Kollekte am Ausgang.
CATEGORIES:Kirchenmusik
LOCATION:St. Laurentius - Tönning\, Johann-Adolf-Straße 4\, 25832 Tönnin
 g\, Deutschland\, Tönning\, Deutschland\, 25832\, Deutschland
GEO:54.3174475;8.9399753
X-APPLE-STRUCTURED-LOCATION;VALUE=URI;X-ADDRESS=Johann-Adolf-Straße 4\, 25
 832 Tönning\, Deutschland\, Tönning\, Deutschland\, 25832\, Deutschland;
 X-APPLE-RADIUS=100;X-TITLE=St. Laurentius - Tönning:geo:54.3174475,8.9399
 753
END:VEVENT
BEGIN:VTIMEZONE
TZID:Europe/Berlin
X-LIC-LOCATION:Europe/Berlin
BEGIN:STANDARD
DTSTART:20261025T020000
TZOFFSETFROM:+0200
TZOFFSETTO:+0100
TZNAME:CET
END:STANDARD
END:VTIMEZONE
END:VCALENDAR