BEGIN:VCALENDAR
VERSION:2.0
PRODID:-//wp-events-plugin.com//7.2.3.1//EN
TZID:Europe/Berlin
X-WR-TIMEZONE:Europe/Berlin
BEGIN:VEVENT
UID:1-26@kirche-nf.de
DTSTART;TZID=Europe/Berlin:20260524T193000
DTEND;TZID=Europe/Berlin:20260524T220000
DTSTAMP:20260421T074022Z
URL:https://www.kirche-nf.de/events/wolfgang-amadeus-mozart-konzert-270-ge
 burtjahr/
SUMMARY:Wolfgang Amadeus Mozart Konzert 270. Geburtjahr
DESCRIPTION:Anlässlich des 270. Geburtsjahres von W. A. Mozart feiern wir 
 gemeinsam mit der Kantorei und dem SPOrchester. Missa in C\, KV 220/196b\,
  Sonata in C KV 263\, Vesperae solennes de Confessore KV 339\, Anna-Sophie
  Brosig\, Sopran\, Naomi Behr\, Alt\, Michael Schwarz\, Tenor\, Eintritt 2
 5/20 € (15 € Schüler\, Studenten\, Auszubildende)\,\n\nVorverkauf ab
  1. Mai online unter www.kirchenmusik-spo.de oder Kirchenbüro St. Peter\
 , Olsdorfer Str. 19\, Di. - Fr. 9 - 12 Uhr\, Tourismuszentrale\, Badallee 
 1 (Dorf) und Maleens Knoll 2 (Bad)
CATEGORIES:Kirchenmusik
LOCATION:St. Peter - St. Peter-Ording\, Olsdorfer Str. 19\, 25826 St. Peter
 -Ording\, St. Peter-Ording\, 25826\, Deutschland
GEO:54.3056437;8.6379834
X-APPLE-STRUCTURED-LOCATION;VALUE=URI;X-ADDRESS=Olsdorfer Str. 19\, 25826 S
 t. Peter-Ording\, St. Peter-Ording\, 25826\, Deutschland;X-APPLE-RADIUS=10
 0;X-TITLE=St. Peter - St. Peter-Ording:geo:54.3056437,8.6379834
END:VEVENT
BEGIN:VTIMEZONE
TZID:Europe/Berlin
X-LIC-LOCATION:Europe/Berlin
BEGIN:DAYLIGHT
DTSTART:20260329T030000
TZOFFSETFROM:+0100
TZOFFSETTO:+0200
TZNAME:CEST
END:DAYLIGHT
END:VTIMEZONE
END:VCALENDAR